BEGIN:VCALENDAR
VERSION:2.0
PRODID:-//WISE Women&#039;s Business Center - ECPv6.15.20//NONSGML v1.0//EN
CALSCALE:GREGORIAN
METHOD:PUBLISH
X-ORIGINAL-URL:https://wisecenter.org
X-WR-CALDESC:Events for WISE Women&#039;s Business Center
REFRESH-INTERVAL;VALUE=DURATION:PT1H
X-Robots-Tag:noindex
X-PUBLISHED-TTL:PT1H
BEGIN:VTIMEZONE
TZID:America/Halifax
BEGIN:DAYLIGHT
TZOFFSETFROM:-0400
TZOFFSETTO:-0300
TZNAME:ADT
DTSTART:20230312T060000
END:DAYLIGHT
BEGIN:STANDARD
TZOFFSETFROM:-0300
TZOFFSETTO:-0400
TZNAME:AST
DTSTART:20231105T050000
END:STANDARD
BEGIN:DAYLIGHT
TZOFFSETFROM:-0400
TZOFFSETTO:-0300
TZNAME:ADT
DTSTART:20240310T060000
END:DAYLIGHT
BEGIN:STANDARD
TZOFFSETFROM:-0300
TZOFFSETTO:-0400
TZNAME:AST
DTSTART:20241103T050000
END:STANDARD
BEGIN:DAYLIGHT
TZOFFSETFROM:-0400
TZOFFSETTO:-0300
TZNAME:ADT
DTSTART:20250309T060000
END:DAYLIGHT
BEGIN:STANDARD
TZOFFSETFROM:-0300
TZOFFSETTO:-0400
TZNAME:AST
DTSTART:20251102T050000
END:STANDARD
END:VTIMEZONE
BEGIN:VEVENT
DTSTART;TZID=America/Halifax:20240718T090000
DTEND;TZID=America/Halifax:20240718T100000
DTSTAMP:20260425T210936
CREATED:20240627T192227Z
LAST-MODIFIED:20240627T192349Z
UID:16095-1721293200-1721296800@wisecenter.org
SUMMARY:Building Blocks for Starting Your Business
DESCRIPTION:Join us for an introduction to entrepreneurship and starting a business! Learn the basic ideas on determining a need in the marketplace\, target marketing\, unique selling points\, and building your support team. \nLocation: Zoom\nDate: July 18th\, 9 – 10 AM \nCost: Free \nREGISTER HERE! \nThis introduction to entrepreneurship covers essential topics for anyone looking to start a business. Here are just some of the topics included: \n\nUnderstanding the Business Landscape: Conduct market research to identify opportunities and understand your competitors.\nDetermining Market Need: Assess if there’s interest in your product or service and how you can stand out in a saturated market.\nWriting a Business Plan: Learn how to create a detailed business plan\, including financial projections\, market analysis\, and organizational structure.\nBuilding Your Support Team: Identify key team members such as bankers\, accountants\, insurance agents\, and lawyers who can support your business.\nMaking it Legal: Understand the legal requirements for business formation\, including registrations\, licenses\, and permits.\n\nJoin us to gain a better understanding of what starting a business REALLY entails!
URL:https://wisecenter.org/event/building-blocks-for-starting-your-business-53/
LOCATION:Zoom
ATTACH;FMTTYPE=image/png:https://wisecenter.org/wp-content/uploads/2024/05/16075_image.png
END:VEVENT
BEGIN:VEVENT
DTSTART;TZID=America/Halifax:20240724T120000
DTEND;TZID=America/Halifax:20240724T130000
DTSTAMP:20260425T210936
CREATED:20240627T194422Z
LAST-MODIFIED:20240627T194422Z
UID:16100-1721822400-1721826000@wisecenter.org
SUMMARY:Building Blocks for Starting Your Business
DESCRIPTION:Join us for an introduction to entrepreneurship and starting a business! Learn the basic ideas on determining a need in the marketplace\, target marketing\, unique selling points\, and building your support team. \nLocation: Zoom\nDate: July 24th\, 12 – 1 PM \nCost: Free \nREGISTER HERE! \nThis introduction to entrepreneurship covers essential topics for anyone looking to start a business. Here are just some of the topics included: \n\nUnderstanding the Business Landscape: Conduct market research to identify opportunities and understand your competitors.\nDetermining Market Need: Assess if there’s interest in your product or service and how you can stand out in a saturated market.\nWriting a Business Plan: Learn how to create a detailed business plan\, including financial projections\, market analysis\, and organizational structure.\nBuilding Your Support Team: Identify key team members such as bankers\, accountants\, insurance agents\, and lawyers who can support your business.\nMaking it Legal: Understand the legal requirements for business formation\, including registrations\, licenses\, and permits.\n\nJoin us to gain a better understanding of what starting a business REALLY entails!
URL:https://wisecenter.org/event/building-blocks-for-starting-your-business-54/
LOCATION:Zoom
ATTACH;FMTTYPE=image/png:https://wisecenter.org/wp-content/uploads/2024/05/16075_image.png
END:VEVENT
END:VCALENDAR