BEGIN:VCALENDAR
VERSION:2.0
PRODID:-//WISE Women&#039;s Business Center - ECPv6.15.20//NONSGML v1.0//EN
CALSCALE:GREGORIAN
METHOD:PUBLISH
X-ORIGINAL-URL:https://wisecenter.org
X-WR-CALDESC:Events for WISE Women&#039;s Business Center
REFRESH-INTERVAL;VALUE=DURATION:PT1H
X-Robots-Tag:noindex
X-PUBLISHED-TTL:PT1H
BEGIN:VTIMEZONE
TZID:Africa/Abidjan
BEGIN:STANDARD
TZOFFSETFROM:+0000
TZOFFSETTO:+0000
TZNAME:GMT
DTSTART:20240101T000000
END:STANDARD
END:VTIMEZONE
BEGIN:VTIMEZONE
TZID:America/Halifax
BEGIN:DAYLIGHT
TZOFFSETFROM:-0400
TZOFFSETTO:-0300
TZNAME:ADT
DTSTART:20240310T060000
END:DAYLIGHT
BEGIN:STANDARD
TZOFFSETFROM:-0300
TZOFFSETTO:-0400
TZNAME:AST
DTSTART:20241103T050000
END:STANDARD
BEGIN:DAYLIGHT
TZOFFSETFROM:-0400
TZOFFSETTO:-0300
TZNAME:ADT
DTSTART:20250309T060000
END:DAYLIGHT
BEGIN:STANDARD
TZOFFSETFROM:-0300
TZOFFSETTO:-0400
TZNAME:AST
DTSTART:20251102T050000
END:STANDARD
BEGIN:DAYLIGHT
TZOFFSETFROM:-0400
TZOFFSETTO:-0300
TZNAME:ADT
DTSTART:20260308T060000
END:DAYLIGHT
BEGIN:STANDARD
TZOFFSETFROM:-0300
TZOFFSETTO:-0400
TZNAME:AST
DTSTART:20261101T050000
END:STANDARD
END:VTIMEZONE
BEGIN:VEVENT
DTSTART;TZID=Africa/Abidjan:20251009T120000
DTEND;TZID=Africa/Abidjan:20251009T130000
DTSTAMP:20260422T230843
CREATED:20250916T171412Z
LAST-MODIFIED:20250916T171412Z
UID:17056-1760011200-1760014800@wisecenter.org
SUMMARY:WISE WBC Orientation
DESCRIPTION:Interested in learning more about WISE Women’s Business Center and our services? Join us for an orientation.\n\n\nWhen: Thu\, Oct 9\, 2025\, 12-1 PM \nVia Zoom \n \nWISE is one of over 150 Women’s Business Centers in the US. WISE is funded in part by the Small Business Administration\, and hosted by the Martin J. Whitman School of Management at Syracuse University. We are located in the heart of Central New York\, Syracuse. \nWISE helps people start and grow their own businesses. WISE offers free business counseling and targeted training sessions to encourage strategy and access to smart resources and capital. \nThis orientation will cover WISE services\, what you can expect from these services\, and how we can help! We will give an overview of the center\, personnel\, resources available\, and other information to help you navigate our services. \nWho should attend? People in the greater CNY and Upstate NY area looking to start a business\, or seeking help in growing their existing business \n \nLocation: Zoom \n\n\nYou will receive an email from Eventbrite confirming registration after you have done so. The Zoom link for the event will be emailed 2 hours before the start of the event.  \n \nReasonable accommodations for persons with disabilities will be made if requested at least two weeks in advance. Contact Carolyn Tucker at wisecenter@syr.edu to make arrangements.
URL:https://wisecenter.org/event/wise-wbc-orientation-17/
LOCATION:Online Event
ATTACH;FMTTYPE=image/png:https://wisecenter.org/wp-content/uploads/2025/06/16881_image.png
END:VEVENT
BEGIN:VEVENT
DTSTART;TZID=America/Halifax:20251014T080000
DTEND;TZID=America/Halifax:20251014T103000
DTSTAMP:20260422T230843
CREATED:20250729T154738Z
LAST-MODIFIED:20251002T131828Z
UID:16930-1760428800-1760437800@wisecenter.org
SUMMARY:WISE Economic Impact Forum - SOLD OUT
DESCRIPTION:Honoring 20 Years\, Shaping Tomorrow for CNY Women Entrepreneurs\n\nFor nearly two decades\, WISE has empowered women entrepreneurs\, fueling economic growth and innovation across Central New York. Join us in celebration as we recognize outstanding women entrepreneurs\, unveil key insights from the State of Women Business Owners in CNY report\, and inspire investment in the future of women-led businesses in our region. \n\n\n\nAbout the Event\n\n\n\n\n\nOn October 14\, 2025\, our community will celebrate the achievements of women entrepreneurs and shine a spotlight on their vital contributions to our regional economy. \nThis special event will feature an awards ceremony honoring outstanding women business owners as well as a presentation of the “State of Women Business Owners in Central New York” report. The audience will hear compelling stories from women entrepreneurs and learn about WISE’s 20-year legacy of supporting their journeys. \nThrough storytelling\, data\, and meaningful discussion\, this event will raise awareness\, deepen understanding of the local entrepreneurial landscape\, and engage the broader community in supporting the future of women-owned businesses in Central New York. Click HERE for more information!
URL:https://wisecenter.org/event/wise-economic-impact-forum/
LOCATION:Flaum Grand Hall – Whitman School of Management\, 721 University Ave\, Syracuse\, NY\, 13244\, United States
ATTACH;FMTTYPE=image/png:https://wisecenter.org/wp-content/uploads/2025/07/WISE-Economic-Impact-Forum-EB-banner-Website-match.png
END:VEVENT
BEGIN:VEVENT
DTSTART;TZID=Africa/Abidjan:20251023T120000
DTEND;TZID=Africa/Abidjan:20251023T130000
DTSTAMP:20260422T230843
CREATED:20250916T172143Z
LAST-MODIFIED:20250916T172143Z
UID:17058-1761220800-1761224400@wisecenter.org
SUMMARY:Building Blocks for Starting Your Business
DESCRIPTION:Join us for an introduction to entrepreneurship and starting a business!\n\n\nWhen: Thu\, Oct 23\, 2025\, 12:00 – 1:00 PM \nLocation: Zoom \n \nJoin us for an introduction to entrepreneurship and starting a business! Learn the basic ideas on determining a need in the marketplace\, target marketing\, unique selling points\, and building your support team. \n \n\n\nAfter registering\, you will receive an email from Eventbrite with a link to access the webinar. Please save this email and be sure to check your SPAM folder if you don’t see it in your email inbox.  \n \nReasonable accommodations for persons with disabilities will be made if requested at least two weeks in advance. Contact Carolyn Tucker at wisecenter@syr.edu to make arrangements.
URL:https://wisecenter.org/event/building-blocks-for-starting-your-business-69/
LOCATION:Online Event
ATTACH;FMTTYPE=image/png:https://wisecenter.org/wp-content/uploads/2025/06/16884_image.png
END:VEVENT
END:VCALENDAR