BEGIN:VCALENDAR
VERSION:2.0
PRODID:-//WISE Women&#039;s Business Center - ECPv6.15.20//NONSGML v1.0//EN
CALSCALE:GREGORIAN
METHOD:PUBLISH
X-ORIGINAL-URL:https://wisecenter.org
X-WR-CALDESC:Events for WISE Women&#039;s Business Center
REFRESH-INTERVAL;VALUE=DURATION:PT1H
X-Robots-Tag:noindex
X-PUBLISHED-TTL:PT1H
BEGIN:VTIMEZONE
TZID:America/New_York
BEGIN:DAYLIGHT
TZOFFSETFROM:-0500
TZOFFSETTO:-0400
TZNAME:EDT
DTSTART:20240310T070000
END:DAYLIGHT
BEGIN:STANDARD
TZOFFSETFROM:-0400
TZOFFSETTO:-0500
TZNAME:EST
DTSTART:20241103T060000
END:STANDARD
BEGIN:DAYLIGHT
TZOFFSETFROM:-0500
TZOFFSETTO:-0400
TZNAME:EDT
DTSTART:20250309T070000
END:DAYLIGHT
BEGIN:STANDARD
TZOFFSETFROM:-0400
TZOFFSETTO:-0500
TZNAME:EST
DTSTART:20251102T060000
END:STANDARD
BEGIN:DAYLIGHT
TZOFFSETFROM:-0500
TZOFFSETTO:-0400
TZNAME:EDT
DTSTART:20260308T070000
END:DAYLIGHT
BEGIN:STANDARD
TZOFFSETFROM:-0400
TZOFFSETTO:-0500
TZNAME:EST
DTSTART:20261101T060000
END:STANDARD
END:VTIMEZONE
BEGIN:VTIMEZONE
TZID:Africa/Abidjan
BEGIN:STANDARD
TZOFFSETFROM:+0000
TZOFFSETTO:+0000
TZNAME:GMT
DTSTART:20240101T000000
END:STANDARD
END:VTIMEZONE
BEGIN:VEVENT
DTSTART;TZID=America/New_York:20250506T140000
DTEND;TZID=America/New_York:20250506T150000
DTSTAMP:20260423T080746
CREATED:20250415T160337Z
LAST-MODIFIED:20250415T160337Z
UID:16576-1746540000-1746543600@wisecenter.org
SUMMARY:WISE WBC Orientation
DESCRIPTION:Interested in learning more about WISE Women’s Business Center and our services? Join us for an orientation.\n\n\nWhen: Tue\, May 6th\, 2025\, 2-3 PM \nVia Zoom \n \nWISE is one of over 150 Women’s Business Centers in the US. WISE is funded in part by the Small Business Administration\, and hosted by the Martin J. Whitman School of Management at Syracuse University. We are located in the heart of Central New York\, Syracuse. \nWISE helps people start and grow their own businesses. WISE offers free business counseling and targeted training sessions to encourage strategy and access to smart resources and capital. \nThis orientation will cover WISE services\, what you can expect from these services\, and how we can help! We will give an overview of the center\, personnel\, resources available\, and other information to help you navigate our services. \nWho should attend? People in the greater CNY and Upstate NY area looking to start a business\, or seeking help in growing their existing business \n \nLocation: Zoom \n\n\nYou will receive an email from Eventbrite confirming registration after you have done so. The Zoom link for the event will be emailed 2 hours before the start of the event.  \n \nReasonable accommodations for persons with disabilities will be made if requested at least two weeks in advance. Contact Carolyn Tucker at wisecenter@syr.edu to make arrangements.
URL:https://wisecenter.org/event/wise-wbc-orientation-12/
LOCATION:Online Event
ATTACH;FMTTYPE=image/png:https://wisecenter.org/wp-content/uploads/2024/05/16070_image.png
END:VEVENT
BEGIN:VEVENT
DTSTART;TZID=Africa/Abidjan:20250514T120000
DTEND;TZID=Africa/Abidjan:20250514T130000
DTSTAMP:20260423T080746
CREATED:20250418T180325Z
LAST-MODIFIED:20250418T180325Z
UID:16580-1747224000-1747227600@wisecenter.org
SUMMARY:Power Hour: Finding & Securing a Space for Your Small Business
DESCRIPTION:This is an informal\, practical discussion geared toward small business owners who thinking about opening a physical space for their business\n\n\nWhen: Wed\, May 14th\, 2025\, 12:00 – 1:00 PM \nLocation: Zoom (and streamed live on Facebook). \nFormatThe session begins with a 30-minute discussion between WISE business counselor\, Barb Stone\, and our guest experts\, covering key questions we believe are most relevant to the audience\, similar to a panel format. We then open the conversation for audience questions. \nTopic \nJoin us for an informal virtual conversation with real estate experts and community partners who can help you navigate the process of finding a brick-and-mortar space. Learn what to look for\, key considerations\, and how to connect with organizations like the Downtown Committee to make the best decision for your business. \n\n\nAbout the WISE Power Hour \nThe WISE Power Hour is a monthly virtual roundtable designed specifically for entrepreneurs. Each session focuses on a unique\, timely topic led by an expert in the field\, with moderation provided by a WISE advisor or counselor. This interactive format encourages questions and discussion\, creating a supportive and engaging learning environment. \nWe understand the demanding schedules of entrepreneurs\, so sessions are conveniently held during the lunch hour and recordings are available afterward on our Facebook page. Topics are carefully selected to align with current business trends and the needs of our WISE clients. \nWhether you’re looking to stay informed\, find solutions\, or connect with other people in business\, the WISE Power Hour offers insights and inspiration in a format that works for you. \n\n\nAbout our experts\n \nComing soon! \n \n\n\n___________________________________________________________________ \n \nThe Zoom link is emailed before the event by wisecenter@syr.edu.\n \nReasonable accommodations for persons with disabilities will be made if requested at least two weeks in advance. Contact Carolyn Tucker at wisecenter@syr.edu to make arrangements
URL:https://wisecenter.org/event/power-hour-finding-securing-a-space-for-your-small-business/
LOCATION:Online Event
ATTACH;FMTTYPE=image/png:https://wisecenter.org/wp-content/uploads/2025/04/16580_image.png
END:VEVENT
BEGIN:VEVENT
DTSTART;TZID=America/New_York:20250520T140000
DTEND;TZID=America/New_York:20250520T150000
DTSTAMP:20260423T080746
CREATED:20250416T193954Z
LAST-MODIFIED:20250416T193954Z
UID:16578-1747749600-1747753200@wisecenter.org
SUMMARY:Building Blocks for Starting Your Business
DESCRIPTION:Join us for an introduction to entrepreneurship and starting a business!\n\n\nWhen: Tuesday\, May 20th\, 2025\, 2 – 3 PM ET \nLocation: Zoom \n \nJoin us for an introduction to entrepreneurship and starting a business! Learn the basic ideas on determining a need in the marketplace\, target marketing\, unique selling points\, and building your support team. \n \n\n\nAfter registering\, you will receive an email from Eventbrite with a link to access the webinar. Please save this email and be sure to check your SPAM folder if you don’t see it in your email inbox.  \n \nReasonable accommodations for persons with disabilities will be made if requested at least two weeks in advance. Contact Carolyn Tucker at wisecenter@syr.edu to make arrangements.
URL:https://wisecenter.org/event/building-blocks-for-starting-your-business-64/
LOCATION:Online Event
ATTACH;FMTTYPE=image/png:https://wisecenter.org/wp-content/uploads/2023/11/15865_image.png
END:VEVENT
BEGIN:VEVENT
DTSTART;TZID=America/New_York:20250527T163000
DTEND;TZID=America/New_York:20250624T183000
DTSTAMP:20260423T080746
CREATED:20250415T155937Z
LAST-MODIFIED:20250415T160032Z
UID:16570-1748363400-1750789800@wisecenter.org
SUMMARY:Accelerate Financial Management Program
DESCRIPTION:This five-part online series covers financial management for small businesses\, including budgeting and bookkeeping\,and more!\n\n\nAre you ready to take control of your business’s finances? We’re thrilled to announce our Accelerate Financial Management Program\, a comprehensive course designed to equip women entrepreneurs like you with the tools and knowledge needed to master financial management. \nSponsored by Community Bank\, OneGroup\, and Empire State Development\, and led by industry expert Chris Belna\, Owner of A La Carte Business Services and Arete HCM Solutions Inc\, this program covers everything from budgeting and bookkeeping to financial statements\, forecasting\, and building credit. \nThis five-part online series covers financial management for small businesses\, including budgeting and bookkeeping\, understanding and using financial statements\, creating a financial forecast\, and building your credit. These challenging sessions are hands-on and participatory\, so come ready to engage with your instructor and your peers. It’s organized as a cohort\, so you’ll sign up once for all five sessions. \n \nKey Information\n\nDates: May 27th\, June 3rd\, June 10th\, June 17th\, and June 24th\nSessions: Five total sessions. One session per week\, for 5 weeks\nTime: Each session is from 4:30 – 6:30 PM\nSession length: Each session is two hours long\nDuration: Five Weeks\nFormat: Five virtual sessions via Zoom\nCost: $25 price is kept low due to a generous donation from Community Bank\n1:1 direct no-cost technical assistance hours with a financial expert are available to all participants during this program\n\n \nWho is this program for?\nThis program is ideal for women who have an established business\, or are getting ready to launch their business. \nIt may not be as beneficial to people whose business is in the ideation stage [The ideation stage marks the initial phase of starting a business. Here\, entrepreneurs come up with a business idea and begin outlining what the business could look like before taking any additional formal steps to launch the business]. \n \nWhat You Will Learn\n \n\nLearn about budgeting and bookkeepingLearn about budgeting and bookkeeping and ideas and tips for your specific business.\nUtilize financial forecasts for your businessUse financial forecasts to understand the impacts of different approaches and see which path will be most profitable.\nUnderstand the main financial statementsLearn how to read a profit & loss statement\, balance sheet\, and cash flow statement for your business.\nCreate necessary pieces for financial reportingWalk away with a working understanding that will guide your business towards financial success.\n\n \nWhat to Expect\n \n\nPractical ContentYou’ll be able to apply what you’ve learned to your own business.\nChallenging MaterialIf you’re new to the topics\, this class may be challenging. You’ll be provided with a course book you can use to take notes and reference later. Be prepared to ask questions!\nSmall Group Learning EnvironmentCohort is capped at 20 seats to ensure each participant receives individual support.\nSessions are ParticipatoryCome ready to participate\, discuss concepts\, ask questions\, and apply your new knowledge to your own business.\n1:1 Technical AssistanceOption to meet with a financial expert to review your business finance questions and goals.\n\nWhether you’re a seasoned entrepreneur or just starting out\, this program is designed to meet you where you are on your financial management journey. \n \nSpots are very limited so register early!\n\n\nMeet our instructor\, Chris Belna\n\n\n\nWith over 30 years of combined accounting and management knowledge\, Chris Belna is the visionary founder behind A La Carte Business Services and Arete HCM Solutions Inc. in Syracuse\, NY. \nA La Carte Business Services\, Chris and her adept team bring varied talents\, skills\, and hard work to improve financial operations\, making clients the highest priority and exceeding expectations for sustained growth – no matter what the goal! \nSimultaneously\, while Inspired by the Greek word arête\, meaning excellence in all things\, Arete HCM Solutions was built on a foundation of excellent service\, outstanding value\, and customized solutions in the Human Capital Management and Payroll industry. \nChris believes that accounting is not all about taxes. In fact\, it is actually more about knowing what your business needs to plan better\, operate better\, and grow stronger! Those results are born from well-designed management strategies and accounting systems\, efficient processes\, and accurate financials. \nOutside of her businesses she enjoys time with her family and her pups\, and is an avid researcher of all things related to living a better life! \n\n\nThe Accelerate Financial Management Program is sponsored by Community Bank\, OneGroup\, and Empire State Development.  \n\n\n\nReasonable accommodations for persons with disabilities will be made if requested at least two weeks in advance. Contact Carolyn Tucker at wisecenter@syr.edu to make arrangements.
URL:https://wisecenter.org/event/accelerate-financial-management-program-2/
LOCATION:Online Event
ATTACH;FMTTYPE=image/png:https://wisecenter.org/wp-content/uploads/2025/04/16570_image-1.png
END:VEVENT
END:VCALENDAR