BEGIN:VCALENDAR
VERSION:2.0
PRODID:-//WISE Women&#039;s Business Center - ECPv6.15.20//NONSGML v1.0//EN
CALSCALE:GREGORIAN
METHOD:PUBLISH
X-ORIGINAL-URL:https://wisecenter.org
X-WR-CALDESC:Events for WISE Women&#039;s Business Center
REFRESH-INTERVAL;VALUE=DURATION:PT1H
X-Robots-Tag:noindex
X-PUBLISHED-TTL:PT1H
BEGIN:VTIMEZONE
TZID:America/New_York
BEGIN:DAYLIGHT
TZOFFSETFROM:-0500
TZOFFSETTO:-0400
TZNAME:EDT
DTSTART:20240310T070000
END:DAYLIGHT
BEGIN:STANDARD
TZOFFSETFROM:-0400
TZOFFSETTO:-0500
TZNAME:EST
DTSTART:20241103T060000
END:STANDARD
BEGIN:DAYLIGHT
TZOFFSETFROM:-0500
TZOFFSETTO:-0400
TZNAME:EDT
DTSTART:20250309T070000
END:DAYLIGHT
BEGIN:STANDARD
TZOFFSETFROM:-0400
TZOFFSETTO:-0500
TZNAME:EST
DTSTART:20251102T060000
END:STANDARD
BEGIN:DAYLIGHT
TZOFFSETFROM:-0500
TZOFFSETTO:-0400
TZNAME:EDT
DTSTART:20260308T070000
END:DAYLIGHT
BEGIN:STANDARD
TZOFFSETFROM:-0400
TZOFFSETTO:-0500
TZNAME:EST
DTSTART:20261101T060000
END:STANDARD
END:VTIMEZONE
BEGIN:VTIMEZONE
TZID:America/Halifax
BEGIN:DAYLIGHT
TZOFFSETFROM:-0400
TZOFFSETTO:-0300
TZNAME:ADT
DTSTART:20240310T060000
END:DAYLIGHT
BEGIN:STANDARD
TZOFFSETFROM:-0300
TZOFFSETTO:-0400
TZNAME:AST
DTSTART:20241103T050000
END:STANDARD
BEGIN:DAYLIGHT
TZOFFSETFROM:-0400
TZOFFSETTO:-0300
TZNAME:ADT
DTSTART:20250309T060000
END:DAYLIGHT
BEGIN:STANDARD
TZOFFSETFROM:-0300
TZOFFSETTO:-0400
TZNAME:AST
DTSTART:20251102T050000
END:STANDARD
BEGIN:DAYLIGHT
TZOFFSETFROM:-0400
TZOFFSETTO:-0300
TZNAME:ADT
DTSTART:20260308T060000
END:DAYLIGHT
BEGIN:STANDARD
TZOFFSETFROM:-0300
TZOFFSETTO:-0400
TZNAME:AST
DTSTART:20261101T050000
END:STANDARD
END:VTIMEZONE
BEGIN:VEVENT
DTSTART;TZID=America/New_York:20250108T120000
DTEND;TZID=America/New_York:20250108T130000
DTSTAMP:20260423T142830
CREATED:20241218T201408Z
LAST-MODIFIED:20241218T201408Z
UID:16328-1736337600-1736341200@wisecenter.org
SUMMARY:Power Hour: Balancing Health and Hustle - Strategies for for Entrepreneurs
DESCRIPTION:Balancing Health and Hustle – Strategies from Health Entrepreneurs and Enthusiasts Emily Gozy\, Ebony Unique\, and Allison Graff\n\n\nWhen: Wed\, Jan 8\, 2025\, 12:00 PM \nLocation: Zoom \nFormatThe session begins with a 30-minute discussion between WISE business counselor\, Barb Stone\, and our experts\, covering key questions we believe are most relevant to the audience\, similar to a panel format. We then open the conversation for audience questions. \n \n\nTopic: Balancing Health and Hustle: Strategies from health entrepreneurs and enthusiasts Emily\, Ebony\, and Allison\nAudience: Women entrepreneurs from across Central New York\nTime: 30-minute conversation with you as the WISE Business Counselor\, followed by up to 20 minutes for audience questions and discussion\n\n \nOur goal is to provide CNY women entrepreneurs with practical health tips and strategies that can be adapted to their unique lifestyles and business demands. Recognizing that health goals and what’s achievable look different for everyone\, this conversation aims to empower each attendee with flexible\, actionable insights from local entrepreneurs who walk the talk. By the end\, participants will feel encouraged to prioritize their well-being in ways that support both their personal health and professional growth. \n\n\nAbout the WISE Power Hour \nThe WISE Power Hour is a monthly virtual roundtable designed specifically for women entrepreneurs. Each session focuses on a unique\, timely topic led by an expert in the field\, with moderation provided by a WISE advisor or counselor. This interactive format encourages questions and discussion\, creating a supportive and engaging learning environment. \nWe understand the demanding schedules of women entrepreneurs\, so sessions are conveniently held during the lunch hour and recordings are available afterward on our Facebook page. Topics are carefully selected to align with current business trends and the needs of our WISE clients. \nWhether you’re looking to stay informed\, find solutions\, or connect with other women in business\, the WISE Power Hour offers insights and inspiration in a format that works for you. \n\n\nAbout our experts: \n \nEmily Gozy\, MS RDN CDN\, Founder and CEO of Nourished with Emily\, LLC \nNourished with Emily is a Syracuse-based virtual nutrition counseling\, education\, and wellness programming company that helps busy professionals feel confident in their skin and in the kitchen to lead healthier lives. \n \nEbony Unique\, Founder & CEO of Unique Consults\, LLC \nUnique Consults partners with organizations and individuals to provide expert consulting\, offering strategies\, collaboration\, and best practices to implement sustainable processes. Ebony is dedicated to helping you achieve your goals while fostering growth and long-term success. \n \nAllison Graff\, Founder of mindful health coach \nAllison is your mindful health coach\, helping stressed-out super-folk live happier & healthier lives with mindfulness and a whole health approach to wellness. \n\n\n___________________________________________________________________ \nAfter registering\, you will receive an email from Eventbrite with a link to access the webinar. Please save this email and be sure to check your SPAM folder if you don’t see it in your email inbox. \n \nReasonable accommodations for persons with disabilities will be made if requested at least two weeks in advance. Contact Carolyn Tucker at wisecenter@syr.edu to make arrangements
URL:https://wisecenter.org/event/power-hour-balancing-health-and-hustle-strategies-for-for-entrepreneurs/
LOCATION:Online Event
ATTACH;FMTTYPE=image/png:https://wisecenter.org/wp-content/uploads/2024/12/16328_image.png
END:VEVENT
BEGIN:VEVENT
DTSTART;TZID=America/New_York:20250109T120000
DTEND;TZID=America/New_York:20250109T130000
DTSTAMP:20260423T142830
CREATED:20241216T142556Z
LAST-MODIFIED:20241216T142556Z
UID:16325-1736424000-1736427600@wisecenter.org
SUMMARY:Building Blocks for Starting Your Business
DESCRIPTION:Join us for an introduction to entrepreneurship and starting a business!\n\n\nWhen: Thu\, Dec 5\, 2024\, 12:00 PM via Zoom \n \nJoin us for an introduction to entrepreneurship and starting a business! Learn the basic ideas on determining a need in the marketplace\, target marketing\, unique selling points\, and building your support team. \nLocation: Zoom \n \n\n\nAfter registering\, you will receive an email from Eventbrite with a link to access the webinar. Please save this email and be sure to check your SPAM folder if you don’t see it in your email inbox.  \n \nReasonable accommodations for persons with disabilities will be made if requested at least two weeks in advance. Contact Carolyn Tucker at wisecenter@syr.edu to make arrangements.
URL:https://wisecenter.org/event/building-blocks-for-starting-your-business-60/
LOCATION:Online Event
ATTACH;FMTTYPE=image/png:https://wisecenter.org/wp-content/uploads/2024/12/16325_image.png
END:VEVENT
BEGIN:VEVENT
DTSTART;TZID=America/New_York:20250114T120000
DTEND;TZID=America/New_York:20250114T130000
DTSTAMP:20260423T142830
CREATED:20241216T142336Z
LAST-MODIFIED:20241216T142336Z
UID:16323-1736856000-1736859600@wisecenter.org
SUMMARY:WISE WBC Orientation
DESCRIPTION:Interested in learning more about WISE Women’s Business Center and our services? Join us for an orientation.\n\n\nWhen: Thu\, Dec 12\, 2024\, 12:00 PM \n \nWISE is one of over 140 Women’s Business Centers in the US. WISE is funded in part by the Small Business Administration\, and hosted by the Martin J. Whitman School of Management at Syracuse University. We are located in the heart of Central New York\, Syracuse. \nWISE helps women start and grow their own businesses. WISE offers free business counseling and targeted training sessions to encourage strategy and access to smart resources and capital. \nThis orientation will cover WISE services\, what you can expect from these services\, and how we can help! We will give an overview of the center\, personnel\, resources available\, and other information to help you navigate our services. \nWho should attend? People in the greater CNY and Upstate NY area looking to start a business\, or seeking help in growing their existing business \n \nLocation: Zoom \n\n\nAfter registering\, you will receive an email from Eventbrite with a link to access the webinar. Please save this email and be sure to check your SPAM folder if you don’t see it in your email inbox. \n \nReasonable accommodations for persons with disabilities will be made if requested at least two weeks in advance. Contact Carolyn Tucker at wisecenter@syr.edu to make arrangements.
URL:https://wisecenter.org/event/wise-wbc-orientation-8/
LOCATION:Online Event
ATTACH;FMTTYPE=image/png:https://wisecenter.org/wp-content/uploads/2024/05/16070_image.png
END:VEVENT
BEGIN:VEVENT
DTSTART;TZID=America/Halifax:20250115T090000
DTEND;TZID=America/Halifax:20250115T170000
DTSTAMP:20260423T142830
CREATED:20241206T203530Z
LAST-MODIFIED:20241206T203530Z
UID:16307-1736931600-1736960400@wisecenter.org
SUMMARY:2025 Madison County Small Business Summit
DESCRIPTION:​Get ready for an exciting opportunity to fuel your business dreams. The Small Business Summit is coming to Madison County on January 15\, 2025 at SUNY Morrisville\, and it’s all about helping you\, whether you’re a rural small business owner\, a solopreneur\, or an aspiring entrepreneur. \n​This Summit promises to be an engaging and informative event\, covering a wide range of topics to suit all types of businesses\, including: \n\nAccess to capital\nRegional resources for small business\n​Government contracting\nDeveloping your workforce\nMarketing\nRural women in business roundtable\n\nThere will also be opportunities for networking and one-on-one advising sessions with the Small Business Development Center\, the U.S. Small Business Administration\, the Partnership for Community Development\, and Wise Women’s Business Center. \n​The Small Business Summit is an accessible opportunity for small business enthusiasts to connect\, learn\, and grow. Whether you’re a seasoned pro or just starting out\, there’s something here for everyone.  It is brought to you by the Madison County Rural Equity Group which is comprised of local\, state and national small business support agencies.  Including The HUB – Partnership for Community Development\, North Central Small Business Development Center\, U.S. Small Business Administration\, SUNY Morrisville\, SCORE Central NY\, WISE Women’s Business Center\, and Madison County. \nDon’t miss this chance to connect with local experts and your fellow entrepreneurs. Seats are limited\, so be sure to reserve your spot early.  Join us at the Small Business Summit and invest in the future of your business. We can’t wait to welcome you to an event that’s all about helping you succeed in your business journey. \nRegistration: Tickets are $25\, includes lunch and refreshments
URL:https://wisecenter.org/event/2025-madison-county-small-business-summit/
LOCATION:SUNY Morrisville\, Charlton Hall\, Chenango St\, Morrisville\, NY\, 13408
ATTACH;FMTTYPE=image/png:https://wisecenter.org/wp-content/uploads/2024/12/Rural-EQ-Summit-2025-Instagram.png
END:VEVENT
END:VCALENDAR