BEGIN:VCALENDAR
VERSION:2.0
PRODID:-//WISE Women&#039;s Business Center - ECPv6.15.20//NONSGML v1.0//EN
CALSCALE:GREGORIAN
METHOD:PUBLISH
X-ORIGINAL-URL:https://wisecenter.org
X-WR-CALDESC:Events for WISE Women&#039;s Business Center
REFRESH-INTERVAL;VALUE=DURATION:PT1H
X-Robots-Tag:noindex
X-PUBLISHED-TTL:PT1H
BEGIN:VTIMEZONE
TZID:America/Halifax
BEGIN:DAYLIGHT
TZOFFSETFROM:-0400
TZOFFSETTO:-0300
TZNAME:ADT
DTSTART:20230312T060000
END:DAYLIGHT
BEGIN:STANDARD
TZOFFSETFROM:-0300
TZOFFSETTO:-0400
TZNAME:AST
DTSTART:20231105T050000
END:STANDARD
BEGIN:DAYLIGHT
TZOFFSETFROM:-0400
TZOFFSETTO:-0300
TZNAME:ADT
DTSTART:20240310T060000
END:DAYLIGHT
BEGIN:STANDARD
TZOFFSETFROM:-0300
TZOFFSETTO:-0400
TZNAME:AST
DTSTART:20241103T050000
END:STANDARD
BEGIN:DAYLIGHT
TZOFFSETFROM:-0400
TZOFFSETTO:-0300
TZNAME:ADT
DTSTART:20250309T060000
END:DAYLIGHT
BEGIN:STANDARD
TZOFFSETFROM:-0300
TZOFFSETTO:-0400
TZNAME:AST
DTSTART:20251102T050000
END:STANDARD
END:VTIMEZONE
BEGIN:VTIMEZONE
TZID:America/New_York
BEGIN:DAYLIGHT
TZOFFSETFROM:-0500
TZOFFSETTO:-0400
TZNAME:EDT
DTSTART:20230312T070000
END:DAYLIGHT
BEGIN:STANDARD
TZOFFSETFROM:-0400
TZOFFSETTO:-0500
TZNAME:EST
DTSTART:20231105T060000
END:STANDARD
BEGIN:DAYLIGHT
TZOFFSETFROM:-0500
TZOFFSETTO:-0400
TZNAME:EDT
DTSTART:20240310T070000
END:DAYLIGHT
BEGIN:STANDARD
TZOFFSETFROM:-0400
TZOFFSETTO:-0500
TZNAME:EST
DTSTART:20241103T060000
END:STANDARD
BEGIN:DAYLIGHT
TZOFFSETFROM:-0500
TZOFFSETTO:-0400
TZNAME:EDT
DTSTART:20250309T070000
END:DAYLIGHT
BEGIN:STANDARD
TZOFFSETFROM:-0400
TZOFFSETTO:-0500
TZNAME:EST
DTSTART:20251102T060000
END:STANDARD
END:VTIMEZONE
BEGIN:VEVENT
DTSTART;TZID=America/Halifax:20240918T173000
DTEND;TZID=America/Halifax:20241120T193000
DTSTAMP:20260423T185809
CREATED:20240816T170512Z
LAST-MODIFIED:20240903T191131Z
UID:16199-1726680600-1732131000@wisecenter.org
SUMMARY:Accelerate Business Plan Intensive - NO LONGER ACCEPTING APPLICATIONS
DESCRIPTION:**APPLICATIONS ARE NO LONGER BEING ACCEPTED FOR THIS COHORT**\nThis 10-week\, hands-on course is geared toward women entrepreneurs who have recently launched a new business or have a well-vetted business idea for which they need a business plan. Visit the website for more details. \nWhy write a business plan? \nA business plan is necessary if you plan to apply for a bank loan. It’s also a useful tool when bringing on business partners or looking for investors. The writing process itself will also help you determine if your business has a chance at success\, give you an idea of startup costs and how much you’ll need to invest or finance\, and uncover potential challenges. A business plan is a living\, changing document that gives you as the business owner a strategic roadmap for the future. \nProgram features \nThis course covers every major section of the business plan\, from executive summary to financial forecasts\, using real-life examples and best practices. Throughout the program\, you’ll attend class sessions\, spend time working on your plan\, and get feedback and 1:1 support from a business mentor. Between sessions\, there will be optional expert led sessions covering relevant small business topics including accounting\, HR\, legal considerations\, loan readiness\, MWBE certification\, and more. \nProgram fee and fee waivers \nThe fee for this program is $150 and covers all 10 sessions\, optional expert sessions\, and a 3 month subscription to LivePlan\, the leading business plan writing tool. \nOur goal is to make this program accessible to our community. We are able to keep costs low for this cohort through partial sponsorship by Empire State Development. The course fee of $150 partially covers the cost of our program facilitators\, materials\, and software. A limited number of need-based scholarships are available. For information about scholarship availability please contact Jennifer McGee\, Program Manager\, at jemcgee@syr.edu. \nEligibility & how to apply \nTo be eligible\, you must: \n\nBe the owner of a recently launched business\, OR\nHave a well-vetted business idea. If you haven’t yet launched\, you must supply evidence of significant market research and describe the steps you’ve taken to validate your business idea\nCommit to attending all 10 classes\, held on Wednesday evenings from 5:30 – 7:30 pm starting September 18\, 2024\nCommit to spending 2+ hours outside of class every week working on your business plan and keeping up with the writing assignments\nComplete all required steps in the application and registration process\n\nVisit the Accelerate: Business Plan Intensive website for more information. \nFor questions\, please contact Jennifer McGee at jemcgee@syr.edu.
URL:https://wisecenter.org/event/accelerate-business-plan-intensive/
LOCATION:Hybrid
ATTACH;FMTTYPE=image/png:https://wisecenter.org/wp-content/uploads/2024/08/C8-EB-Banner.png
END:VEVENT
BEGIN:VEVENT
DTSTART;TZID=America/New_York:20241008T120000
DTEND;TZID=America/New_York:20241008T130000
DTSTAMP:20260423T185809
CREATED:20240905T220127Z
LAST-MODIFIED:20240905T220127Z
UID:16242-1728388800-1728392400@wisecenter.org
SUMMARY:WISE WBC Orientation
DESCRIPTION:Interested in learning more about WISE Women’s Business Center and our services? Join us for an orientation.\n\n\nWhen: Tuesday\, October 8th\, 2024\, from 12-1 PM \n \nWISE is one of over 140 Women’s Business Centers in the US. WISE is funded in part by the Small Business Administration\, and hosted by the Martin J. Whitman School of Management at Syracuse University. We are located in the heart of Central New York\, Syracuse. \nWISE helps women start and grow their own businesses. WISE offers free business counseling and targeted training sessions to encourage strategy and access to smart resources and capital. \nThis orientation will cover WISE services\, what you can expect from these services\, and how we can help! We will give an overview of the center\, personnel\, resources available\, and other information to help you navigate our services. \nWho should attend? People in the greater CNY and Upstate NY area looking to start a business\, or seeking help in growing their existing business \n \nLocation: Zoom \n\n\nAfter registering\, you will receive an email from Eventbrite with a link to access the webinar. Please save this email and be sure to check your SPAM folder if you don’t see it in your email inbox.  \n \nReasonable accommodations for persons with disabilities will be made if requested at least two weeks in advance. Contact Carolyn Tucker at wisecenter@syr.edu to make arrangements.
URL:https://wisecenter.org/event/wise-wbc-orientation-5/
LOCATION:Online Event
ATTACH;FMTTYPE=image/png:https://wisecenter.org/wp-content/uploads/2024/05/16070_image.png
END:VEVENT
BEGIN:VEVENT
DTSTART;TZID=America/New_York:20241022T120000
DTEND;TZID=America/New_York:20241022T130000
DTSTAMP:20260423T185809
CREATED:20240906T141252Z
LAST-MODIFIED:20240906T141252Z
UID:16244-1729598400-1729602000@wisecenter.org
SUMMARY:Building Blocks for Starting Your Business
DESCRIPTION:Join us for an introduction to entrepreneurship and starting a business!\n\n\nWhen: Tuesday\, October 22nd\, 2024\, from 12 – 1 PM via Zoom \n \nJoin us for an introduction to entrepreneurship and starting a business! Learn the basic ideas on determining a need in the marketplace\, target marketing\, unique selling points\, and building your support team. \nLocation: Zoom \n \n\n\nAfter registering\, you will receive an email from Eventbrite with a link to access the webinar. Please save this email and be sure to check your SPAM folder if you don’t see it in your email inbox.  \n \nReasonable accommodations for persons with disabilities will be made if requested at least two weeks in advance. Contact Carolyn Tucker at wisecenter@syr.edu to make arrangements.
URL:https://wisecenter.org/event/building-blocks-for-starting-your-business-57/
LOCATION:Online Event
ATTACH;FMTTYPE=image/png:https://wisecenter.org/wp-content/uploads/2023/11/15865_image.png
END:VEVENT
END:VCALENDAR