BEGIN:VCALENDAR
VERSION:2.0
PRODID:-//WISE Women&#039;s Business Center - ECPv6.15.20//NONSGML v1.0//EN
CALSCALE:GREGORIAN
METHOD:PUBLISH
X-WR-CALNAME:WISE Women&#039;s Business Center
X-ORIGINAL-URL:https://wisecenter.org
X-WR-CALDESC:Events for WISE Women&#039;s Business Center
REFRESH-INTERVAL;VALUE=DURATION:PT1H
X-Robots-Tag:noindex
X-PUBLISHED-TTL:PT1H
BEGIN:VTIMEZONE
TZID:America/New_York
BEGIN:DAYLIGHT
TZOFFSETFROM:-0500
TZOFFSETTO:-0400
TZNAME:EDT
DTSTART:20230312T070000
END:DAYLIGHT
BEGIN:STANDARD
TZOFFSETFROM:-0400
TZOFFSETTO:-0500
TZNAME:EST
DTSTART:20231105T060000
END:STANDARD
BEGIN:DAYLIGHT
TZOFFSETFROM:-0500
TZOFFSETTO:-0400
TZNAME:EDT
DTSTART:20240310T070000
END:DAYLIGHT
BEGIN:STANDARD
TZOFFSETFROM:-0400
TZOFFSETTO:-0500
TZNAME:EST
DTSTART:20241103T060000
END:STANDARD
BEGIN:DAYLIGHT
TZOFFSETFROM:-0500
TZOFFSETTO:-0400
TZNAME:EDT
DTSTART:20250309T070000
END:DAYLIGHT
BEGIN:STANDARD
TZOFFSETFROM:-0400
TZOFFSETTO:-0500
TZNAME:EST
DTSTART:20251102T060000
END:STANDARD
END:VTIMEZONE
BEGIN:VTIMEZONE
TZID:America/Halifax
BEGIN:DAYLIGHT
TZOFFSETFROM:-0400
TZOFFSETTO:-0300
TZNAME:ADT
DTSTART:20230312T060000
END:DAYLIGHT
BEGIN:STANDARD
TZOFFSETFROM:-0300
TZOFFSETTO:-0400
TZNAME:AST
DTSTART:20231105T050000
END:STANDARD
BEGIN:DAYLIGHT
TZOFFSETFROM:-0400
TZOFFSETTO:-0300
TZNAME:ADT
DTSTART:20240310T060000
END:DAYLIGHT
BEGIN:STANDARD
TZOFFSETFROM:-0300
TZOFFSETTO:-0400
TZNAME:AST
DTSTART:20241103T050000
END:STANDARD
BEGIN:DAYLIGHT
TZOFFSETFROM:-0400
TZOFFSETTO:-0300
TZNAME:ADT
DTSTART:20250309T060000
END:DAYLIGHT
BEGIN:STANDARD
TZOFFSETFROM:-0300
TZOFFSETTO:-0400
TZNAME:AST
DTSTART:20251102T050000
END:STANDARD
END:VTIMEZONE
BEGIN:VEVENT
DTSTART;TZID=America/New_York:20240806T120000
DTEND;TZID=America/New_York:20240806T130000
DTSTAMP:20260425T073422
CREATED:20240726T192731Z
LAST-MODIFIED:20240726T192731Z
UID:16154-1722945600-1722949200@wisecenter.org
SUMMARY:WISE WBC Orientation
DESCRIPTION:Interested in learning more about WISE Women’s Business Center and our services? Join us for an orientation.\n\n\nWISE is one of over 140 Women’s Business Centers in the US. WISE is funded in part by the Small Business Administration\, and hosted by the Martin J. Whitman School of Management at Syracuse University. We are located in the heart of Central New York\, Syracuse. \nWISE helps women start and grow their own businesses. WISE offers free business counseling and targeted training sessions to encourage strategy and access to smart resources and capital. \nThis orientation will cover WISE services\, what you can expect from these services\, and how we can help! We will give an overview of the center\, personnel\, resources available\, and other information to help you navigate our services. \nWho should attend? People in the greater CNY and Upstate NY area looking to start a business\, or seeking help in growing their existing business \n \nLocation: Zoom \n\n\nAfter registering\, you will receive an email from Eventbrite with a link to access the webinar. Please save this email and be sure to check your SPAM folder if you don’t see it in your email inbox.  \n \nReasonable accommodations for persons with disabilities will be made if requested at least two weeks in advance. Contact Carolyn Tucker at wisecenter@syr.edu to make arrangements.
URL:https://wisecenter.org/event/wise-wbc-orientation-3/
LOCATION:Online Event
ATTACH;FMTTYPE=image/png:https://wisecenter.org/wp-content/uploads/2024/05/16070_image.png
END:VEVENT
BEGIN:VEVENT
DTSTART;TZID=America/Halifax:20240819T130000
DTEND;TZID=America/Halifax:20240819T143000
DTSTAMP:20260425T073422
CREATED:20240809T194414Z
LAST-MODIFIED:20240816T165429Z
UID:16185-1724072400-1724077800@wisecenter.org
SUMMARY:SOLD OUT**MWBE Certification: NYS ESD Sail-Thru Summer Initiative Info Session
DESCRIPTION:Join us for the Sail-Thru Summer Information & Networking Event! This is a fantastic opportunity to learn about the Empire State Development (ESD)’s Sail-Thru Summer certification initiative\, connect with technical assistance providers\, and explore projects funded by New York State that offer contract opportunities. \nWhat to Expect: \nLearn about the Sail-Thru Summer Certification Initiative: Gain insights into this exciting program and how it can benefit your business.\nMeet Technical Assistance Providers: Discover the experts who can provide the support and guidance you need to succeed.\nExplore Contract Opportunities: Find out about various projects with funding from New York State where you can seek valuable contract opportunities.\nSpecial Features: \nOne-on-One Sessions: Sign up for personalized sessions with:\nA Technical Assistance (T.A.) business advisor\nA Minority and Women-owned Business Enterprise (MWBE) certification analyst\nAn MWBE business development analyst \nNetwork with Industry Professionals: Connect with like-minded individuals and expand your professional network.\nAccess Valuable Resources: Get the information and assistance you need to grow your business.\nUnlock New Opportunities: Learn how to secure contracts and funding to take your business to the next level.\nDon’t miss this chance to empower your business and tap into new opportunities. We look forward to seeing you there! \nLight refreshments will be served. \nParking available on site. \nDoors open at 12:30 PM
URL:https://wisecenter.org/event/mwbe-certification-nys-esd-sail-thru-summer-initiative-info-session/
LOCATION:OneGroup\, 706 North Clinton Street\, Syracuse\, NY 13204\, Syracuse\, NY\, 13204\, US
ATTACH;FMTTYPE=image/jpeg:https://wisecenter.org/wp-content/uploads/2024/08/MWBE-Cert-event.jpg
END:VEVENT
BEGIN:VEVENT
DTSTART;TZID=America/New_York:20240820T120000
DTEND;TZID=America/New_York:20240820T130000
DTSTAMP:20260425T073422
CREATED:20240726T192027Z
LAST-MODIFIED:20240726T192027Z
UID:16151-1724155200-1724158800@wisecenter.org
SUMMARY:Building Blocks for Starting Your Business
DESCRIPTION:Join us for an introduction to entrepreneurship and starting a business!\n\n\nJoin us for an introduction to entrepreneurship and starting a business! Learn the basic ideas on determining a need in the marketplace\, target marketing\, unique selling points\, and building your support team. \nLocation: Zoom \n \n\n\nAfter registering\, you will receive an email from Eventbrite with a link to access the webinar. Please save this email and be sure to check your SPAM folder if you don’t see it in your email inbox.  \n \nReasonable accommodations for persons with disabilities will be made if requested at least two weeks in advance. Contact Carolyn Tucker at wisecenter@syr.edu to make arrangements.
URL:https://wisecenter.org/event/building-blocks-for-starting-your-business-55/
LOCATION:Online Event
ATTACH;FMTTYPE=image/png:https://wisecenter.org/wp-content/uploads/2024/07/16151_image.png
END:VEVENT
END:VCALENDAR