BEGIN:VCALENDAR
VERSION:2.0
PRODID:-//WISE Women&#039;s Business Center - ECPv6.15.20//NONSGML v1.0//EN
CALSCALE:GREGORIAN
METHOD:PUBLISH
X-ORIGINAL-URL:https://wisecenter.org
X-WR-CALDESC:Events for WISE Women&#039;s Business Center
REFRESH-INTERVAL;VALUE=DURATION:PT1H
X-Robots-Tag:noindex
X-PUBLISHED-TTL:PT1H
BEGIN:VTIMEZONE
TZID:America/New_York
BEGIN:DAYLIGHT
TZOFFSETFROM:-0500
TZOFFSETTO:-0400
TZNAME:EDT
DTSTART:20230312T070000
END:DAYLIGHT
BEGIN:STANDARD
TZOFFSETFROM:-0400
TZOFFSETTO:-0500
TZNAME:EST
DTSTART:20231105T060000
END:STANDARD
BEGIN:DAYLIGHT
TZOFFSETFROM:-0500
TZOFFSETTO:-0400
TZNAME:EDT
DTSTART:20240310T070000
END:DAYLIGHT
BEGIN:STANDARD
TZOFFSETFROM:-0400
TZOFFSETTO:-0500
TZNAME:EST
DTSTART:20241103T060000
END:STANDARD
BEGIN:DAYLIGHT
TZOFFSETFROM:-0500
TZOFFSETTO:-0400
TZNAME:EDT
DTSTART:20250309T070000
END:DAYLIGHT
BEGIN:STANDARD
TZOFFSETFROM:-0400
TZOFFSETTO:-0500
TZNAME:EST
DTSTART:20251102T060000
END:STANDARD
END:VTIMEZONE
BEGIN:VEVENT
DTSTART;TZID=America/New_York:20240404T083000
DTEND;TZID=America/New_York:20240404T123000
DTSTAMP:20260425T135344
CREATED:20240301T213524Z
LAST-MODIFIED:20240301T213524Z
UID:15975-1712219400-1712233800@wisecenter.org
SUMMARY:Women in Business Leadership Workshop: Leading with Head\, Heart\, and Spirit
DESCRIPTION:Are you ready to take your leadership skills to the next level and lead your business with head\, heart\, and spirit?\n\n\nJoin us for an exclusive workshop featuring the esteemed Gwen Webber-Mcleod\, President & CEO of Gwen\, Inc. \nEvent Details: \nDate: April 4. 2024 \nTime: 8:30 am – 12:30 pm \nLocation: Oneida Mansion House\, 170 Kenwood Ave\, Oneida\, NY 13421 \nCost: $10 \n \nDuring this dynamic session\, Gwen will share insights from her 30-year leadership journey\, focusing on practical strategies to enhance your leadership effectiveness. From navigating challenges to inspiring your team\, Gwen’s workshop will equip you with the tools you need to succeed. \n \nEvent Highlights: \n\nConnect with fellow women entrepreneurs over a delicious breakfast and expand your professional network.\nGain valuable insights from Gwen’s expertise and learn practical strategies to lead with confidence and clarity.\nEngage in meaningful discussions and share experiences with like-minded entrepreneurs during networking breaks.\n\n \nAgenda: \n\n8:30 am – 9:15 am: Breakfast provided by Sweet Life of Baker + Networking\n9:15 am – 11:45 am: Leadership Workshop with Gwen Webber-Mcleod\n11:45 am – 12:30 pm: Networking\n\nAbout Gwen Webber-Mcleod: Gwen is a renowned leadership development expert and the driving force behind Gwen\, Inc. With a passion for empowering leaders at all levels\, Gwen has dedicated her career to supporting individuals on their leadership journey. She is also the founder of You Can’t Fail Inc.\, a nonprofit organization committed to multicultural leadership development. \n \nSpaces are limited\, so reserve your spot today to secure your place at this transformative workshop. Don’t miss this opportunity to invest in yourself and your business. \n \nThis special event is presented by The WISE Women’s Business Center and The Hub and sponsored by CNY Community Foundation. \n \n\n\nReasonable accommodations for persons with disabilities will be made if requested at least two weeks in advance. Contact Carolyn Tucker at wisecenter@syr.edu to make arrangements. \n\n\nFood by Sweet Life of a Baker
URL:https://wisecenter.org/event/women-in-business-leadership-workshop-leading-with-head-heart-and-spirit/
LOCATION:Oneida Community Mansion House\, 170 Kenwood Avenue\, Oneida\, NY 13421\, Oneida\, NY\, 13421\, US
ATTACH;FMTTYPE=image/png:https://wisecenter.org/wp-content/uploads/2024/03/15975_image.png
END:VEVENT
BEGIN:VEVENT
DTSTART;TZID=America/New_York:20240416T090000
DTEND;TZID=America/New_York:20240416T110000
DTSTAMP:20260425T135344
CREATED:20240405T164418Z
LAST-MODIFIED:20240405T164418Z
UID:16020-1713258000-1713265200@wisecenter.org
SUMMARY:Get Hands-On with Video Equipment: Training & Certification Session
DESCRIPTION:Build Your Video Production Skills with WISE WBC’s Equipment – Certification Session taught by ana gil!\n\n\nAre you ready to take your video content to the next level? We’re thrilled to announce a special opportunity exclusively for the WISE WBC community. \nJoin us for a comprehensive 2-hour session designed to give you the skills to effectively utilize our center video equipment. This hands-on training will cover everything from basic setup to advanced techniques\, ensuring you feel confident and proficient in creating high-quality video content. \n \nSession Details: \n\nDate: April 16\, 2024\nTime: 9 – 11 am\nLocation: WISE Women’s Business Center\, 100 Madison Street\, Suite 102\, Equitable Towers Lobby\, Syracuse\, NY 13202\n\n \nDuring the session\, our experienced instructor\, ana gil of ana gil studios\, will guide you through the ins and outs of our video equipment\, providing you with practical knowledge and tips to maximize your production capabilities. Upon completion of the training\, you’ll receive certification\, granting you access to reserve our equipment for future projects at the WISE WBC at no cost. \n \nReserve Your Spot Today!\nSpaces for this exclusive training session are limited\, so be sure to secure your spot early. \n\n\nAfter registering\, you will receive an email from Eventbrite with a link to access the webinar. Please save this email and be sure to check your SPAM folder if you don’t see it in your email inbox. \nReasonable accommodations for persons with disabilities will be made if requested at least two weeks in advance. Contact Carolyn Tucker at wisecenter@syr.edu to make arrangements. \n\n\nParking and how to get here:\n\n\n\nClick HERE for Google Maps Directions! \n \nOnce you arrive\, enter from any door and walk toward the center of the buildings. We are on the ground level\, in between the towers\, across from Money Federal Credit Union.
URL:https://wisecenter.org/event/get-hands-on-with-video-equipment-training-certification-session/
LOCATION:WISE Women’s Business Center\, 100 Madison St Equitable Towers Lobby\, Syracuse\, NY 13202\, Syracuse\, NY\, 13202\, US
ATTACH;FMTTYPE=image/png:https://wisecenter.org/wp-content/uploads/2024/04/16020_image.png
END:VEVENT
BEGIN:VEVENT
DTSTART;TZID=America/New_York:20240417T130000
DTEND;TZID=America/New_York:20240417T140000
DTSTAMP:20260425T135344
CREATED:20240325T175505Z
LAST-MODIFIED:20240325T175505Z
UID:16006-1713358800-1713362400@wisecenter.org
SUMMARY:Building Blocks for Starting Your Business
DESCRIPTION:Join us for an introduction to entrepreneurship and starting a business!\n\n\nJoin us for an introduction to entrepreneurship and starting a business! Learn the basic ideas on determining a need in the marketplace\, target marketing\, unique selling points\, and building your support team. \nLocation: Zoom \n \n\n\nAfter registering\, you will receive an email from Eventbrite with a link to access the webinar. Please save this email and be sure to check your SPAM folder if you don’t see it in your email inbox.  \n \nReasonable accommodations for persons with disabilities will be made if requested at least two weeks in advance. Contact Carolyn Tucker at wisecenter@syr.edu to make arrangements.
URL:https://wisecenter.org/event/building-blocks-for-starting-your-business-48/
LOCATION:Online Event
ATTACH;FMTTYPE=image/png:https://wisecenter.org/wp-content/uploads/2024/03/16006_image.png
END:VEVENT
BEGIN:VEVENT
DTSTART;TZID=America/New_York:20240418T120000
DTEND;TZID=America/New_York:20240418T130000
DTSTAMP:20260425T135344
CREATED:20240325T183814Z
LAST-MODIFIED:20240325T183814Z
UID:16009-1713441600-1713445200@wisecenter.org
SUMMARY:WISE Orientation
DESCRIPTION:Interested in learning more about WISE Women’s Business Center and our services? Join us for an orientation.\n\n\nWISE is one of over 140 Women’s Business Centers in the US. WISE is funded in part by the Small Business Administration\, and hosted by the Martin J. Whitman School of Management at Syracuse University. We are located in the heart of Central New York\, Syracuse. \nWISE helps women start and grow their own businesses. WISE offers free business counseling and targeted training sessions to encourage strategy and access to smart resources and capital. \nThis orientation will cover WISE services\, what you can expect from these services\, and how we can help! We will give an overview of the center\, personnel\, resources available\, and other information to help you navigate our services. \nWho should attend? People in the greater CNY and Upstate NY area looking to start a business\, or seeking help in growing their existing business \n \nLocation: Zoom \n \n\n\nAfter registering\, you will receive an email from Eventbrite with a link to access the webinar. Please save this email and be sure to check your SPAM folder if you don’t see it in your email inbox.  \n \nReasonable accommodations for persons with disabilities will be made if requested at least two weeks in advance. Contact Carolyn Tucker at wisecenter@syr.edu to make arrangements.
URL:https://wisecenter.org/event/wise-orientation-32/
LOCATION:Online Event
ATTACH;FMTTYPE=image/jpeg:https://wisecenter.org/wp-content/uploads/2024/03/16009_image_original.jpg
END:VEVENT
BEGIN:VEVENT
DTSTART;TZID=America/New_York:20240424T163000
DTEND;TZID=America/New_York:20240522T183000
DTSTAMP:20260425T135344
CREATED:20240228T204459Z
LAST-MODIFIED:20240228T204459Z
UID:15964-1713976200-1716402600@wisecenter.org
SUMMARY:Accelerate Financial Management Program
DESCRIPTION:5-session series is aimed at people who own or are close to launching a small business and want to learn more about financial management\n\n\nAre you ready to take control of your business’s finances? We’re thrilled to announce our Accelerate Financial Management Program\, a comprehensive course designed to equip women entrepreneurs like you with the tools and knowledge needed to master financial management. \nSponsored by Cooperative Federal Credit Union\, and led by industry expert Chris Belna\, Owner of A La Carte Business Services and Arete HCM Solutions Inc\, this program covers everything from budgeting and bookkeeping to financial statements\, forecasting\, and building credit. \n \nKey Information\n\nDates: April 24\, May 1\, May 8\, May 15\, May 22\nSessions: Five total sessions. One session per week\, for 5 weeks\nSession length: Each session is two hours long\nDuration: Five Weeks\nFormat: Four Interactive hybrid sessions (Available in person and on Zoom)\, and one in-person session with Cooperative Federal Credit Union\nLocation for in-person: WISE Women’s Business Center\, 100 Madison St\, Equitable Towers (formerly the AXA Towers) Lobby\, Syracuse\, NY 13202\nCost: $25 price is kept low due to a generous donation from Cooperative Federal Credit Union\n\n \nWho is this program for?\nThis program is ideal for women who have an established business\, or are getting ready to launch their business. \nIt may not be as beneficial to people whose business is in the ideation stage [The ideation stage marks the initial phase of starting a business. Here\, entrepreneurs come up with a business idea and begin outlining what the business could look like before taking any additional formal steps to launch the business]. \n \nWhat to Expect\n \n\nBudgeting Basics: Gain practical insights into creating and managing budgets effectively\, helping you allocate resources efficiently and drive business growth.\nEssential Bookkeeping Skills: Learn the fundamentals of bookkeeping to maintain accurate financial records and make informed business decisions with confidence.\nUnderstanding Financial Statements: Dive deep into financial statements to analyze your business’s performance\, identify areas for improvement\, and make strategic decisions.\nMastering Financial Forecasting: Explore techniques for predicting future financial trends and outcomes\, empowering you to plan ahead and mitigate risks effectively.\nBuilding and Managing Credit (special last session run by Cooperative Federal): Discover strategies to establish and build credit for your business\, unlocking access to funding opportunities and facilitating long-term financial stability.\n\n \n1:1 financial coaching is also available through this program with our expert instructor\, Chris Belna. \nWhether you’re a seasoned entrepreneur or just starting out\, this program is designed to meet you where you are on your financial management journey. \n \nSpots are very limited so register early!\n\n\nMeet our instructor\, Chris Belna\n\n\n\nWith over 30 years of combined accounting and management knowledge\, Chris Belna is the visionary founder behind A La Carte Business Services and Arete HCM Solutions Inc. in Syracuse\, NY. \nA La Carte Business Services\, Chris and her adept team bring varied talents\, skills\, and hard work to improve financial operations\, making clients the highest priority and exceeding expectations for sustained growth – no matter what the goal! \nSimultaneously\, while Inspired by the Greek word arête\, meaning excellence in all things\, Arete HCM Solutions was built on a foundation of excellent service\, outstanding value\, and customized solutions in the Human Capital Management and Payroll industry. \nChris believes that accounting is not all about taxes. In fact\, it is actually more about knowing what your business needs to plan better\, operate better\, and grow stronger! Those results are born from well-designed management strategies and accounting systems\, efficient processes\, and accurate financials. \nOutside of her businesses she enjoys time with her family and her pups\, and is an avid researcher of all things related to living a better life! \n\n\nThe Accelerate Financial Management Program is sponsored by Cooperative Federal Credit Union. \n\n\n\nAfter registering\, you will receive an email from Eventbrite with a link to access the Zoom sessions for the course. Please save this email and be sure to check your SPAM folder if you don’t see it in your email inbox. \n \nReasonable accommodations for persons with disabilities will be made if requested at least two weeks in advance. Contact Carolyn Tucker at wisecenter@syr.edu to make arrangements.
URL:https://wisecenter.org/event/accelerate-financial-management-program/
LOCATION:Online Event
ATTACH;FMTTYPE=image/png:https://wisecenter.org/wp-content/uploads/2024/02/15964_image.png
END:VEVENT
END:VCALENDAR