BEGIN:VCALENDAR
VERSION:2.0
PRODID:-//WISE Women&#039;s Business Center - ECPv6.15.20//NONSGML v1.0//EN
CALSCALE:GREGORIAN
METHOD:PUBLISH
X-WR-CALNAME:WISE Women&#039;s Business Center
X-ORIGINAL-URL:https://wisecenter.org
X-WR-CALDESC:Events for WISE Women&#039;s Business Center
REFRESH-INTERVAL;VALUE=DURATION:PT1H
X-Robots-Tag:noindex
X-PUBLISHED-TTL:PT1H
BEGIN:VTIMEZONE
TZID:America/New_York
BEGIN:DAYLIGHT
TZOFFSETFROM:-0500
TZOFFSETTO:-0400
TZNAME:EDT
DTSTART:20230312T070000
END:DAYLIGHT
BEGIN:STANDARD
TZOFFSETFROM:-0400
TZOFFSETTO:-0500
TZNAME:EST
DTSTART:20231105T060000
END:STANDARD
BEGIN:DAYLIGHT
TZOFFSETFROM:-0500
TZOFFSETTO:-0400
TZNAME:EDT
DTSTART:20240310T070000
END:DAYLIGHT
BEGIN:STANDARD
TZOFFSETFROM:-0400
TZOFFSETTO:-0500
TZNAME:EST
DTSTART:20241103T060000
END:STANDARD
BEGIN:DAYLIGHT
TZOFFSETFROM:-0500
TZOFFSETTO:-0400
TZNAME:EDT
DTSTART:20250309T070000
END:DAYLIGHT
BEGIN:STANDARD
TZOFFSETFROM:-0400
TZOFFSETTO:-0500
TZNAME:EST
DTSTART:20251102T060000
END:STANDARD
END:VTIMEZONE
BEGIN:VEVENT
DTSTART;TZID=America/New_York:20240306T090000
DTEND;TZID=America/New_York:20240306T100000
DTSTAMP:20260425T154421
CREATED:20240216T174221Z
LAST-MODIFIED:20240216T174221Z
UID:15923-1709715600-1709719200@wisecenter.org
SUMMARY:Building Blocks for Starting Your Business
DESCRIPTION:Join us for an introduction to entrepreneurship and starting a business!\n\n\nJoin us for an introduction to entrepreneurship and starting a business! Learn the basic ideas on determining a need in the marketplace\, target marketing\, unique selling points\, and building your support team. \nLocation: Zoom \n \n\n\nAfter registering\, you will receive an email from Eventbrite with a link to access the webinar. Please save this email and be sure to check your SPAM folder if you don’t see it in your email inbox.  \n \nReasonable accommodations for persons with disabilities will be made if requested at least two weeks in advance. Contact Carolyn Tucker at wisecenter@syr.edu to make arrangements.
URL:https://wisecenter.org/event/building-blocks-for-starting-your-business-46/
LOCATION:Online Event
ATTACH;FMTTYPE=image/png:https://wisecenter.org/wp-content/uploads/2024/02/15923_image.png
END:VEVENT
BEGIN:VEVENT
DTSTART;TZID=America/New_York:20240307T120000
DTEND;TZID=America/New_York:20240328T130000
DTSTAMP:20260425T154421
CREATED:20240216T190628Z
LAST-MODIFIED:20240216T190628Z
UID:15929-1709812800-1711630800@wisecenter.org
SUMMARY:Leveraging Video Marketing for Your Small Business
DESCRIPTION:This four week session will teach you the basics of creating videos and using them for marketing for your small business\n\n\nAre you a woman entrepreneur ready to take your small business to new heights with the power of video marketing? We’re thrilled to invite you to our upcoming four-week course\, “Leveraging Video Marketing for Your Small Business”\, sponsored by Cooperative Federal Credit Union and led by the talented ana gil of ana gil studios. \n \nKey Information\n\nDates: March 7\, 14\, 21\, 28\nSessions: Four total sessions. One session per week\, for 4 weeks\nSession length: Each session is one hour long\nDuration: Four Weeks\nFormat: Interactive Virtual Sessions\nCost: $25\n\n \nWho is this program for?\nThis program is ideal for women who are already in business. It may not be as beneficial to those who have not yet launched their businesses. \n \nWhat to Expect\nIn this tailored program\, we’ll guide you through the essentials of leveraging video to grow your business. Here’s what you can expect: \n \n\nCrafting Captivating Video Content: Learn simple yet effective techniques to create engaging videos that captivate your audience’s attention.\nConnecting with Your Audience: Discover how to make videos that resonate with your audience\, fostering genuine connections and building trust in your brand.\nHarnessing the Power of Video Marketing: Explore practical strategies to use video as a powerful tool to promote your small business\, attract new customers\, and boost your brand presence.\nMeasuring Your Video Marketing Success: Dive into easy-to-understand metrics and insights to measure the impact of your video content and refine your marketing approach for optimal results.\n\n \nWhether you’re just starting out or looking to take your business to the next level\, this course is designed with you in mind. \nDon’t miss out on this opportunity to take your business to new heights with the power of video. Reserve your spot today and join us on this exciting journey! \n \nEligibility & how to register\nTo be eligible\, you must be able to attend all 4 sessions virtually. Spots are very limited so register early! \n \nThe Leveraging Video Marketing for Your Small Business Course is sponsored by Cooperative Federal Credit Union. \n\n\n\nAfter registering\, you will receive an email from Eventbrite with a link to access the Zoom sessions for the course. Please save this email and be sure to check your SPAM folder if you don’t see it in your email inbox. \n \nReasonable accommodations for persons with disabilities will be made if requested at least two weeks in advance. Contact Carolyn Tucker at wisecenter@syr.edu to make arrangements.
URL:https://wisecenter.org/event/leveraging-video-marketing-for-your-small-business/
LOCATION:Online Event
ATTACH;FMTTYPE=image/png:https://wisecenter.org/wp-content/uploads/2024/02/15929_image.png
END:VEVENT
BEGIN:VEVENT
DTSTART;TZID=America/New_York:20240312T120000
DTEND;TZID=America/New_York:20240312T130000
DTSTAMP:20260425T154421
CREATED:20240212T164356Z
LAST-MODIFIED:20240212T164356Z
UID:15920-1710244800-1710248400@wisecenter.org
SUMMARY:WISE Orientation
DESCRIPTION:Interested in learning more about WISE Women’s Business Center and our services? Join us for an orientation.\n\n\nWISE is one of over 100 Women’s Business Centers in the US. WISE is funded in part by the Small Business Administration\, and hosted by the Martin J. Whitman School of Management at Syracuse University.  We are located in the heart of Central New York\, Syracuse.  \nWISE helps women start and grow their own businesses. WISE offers free business counseling and targeted training sessions to encourage strategy and access to smart resources and capital.  \nThis orientation will cover WISE services\, what you can expect from these services\, and how we can help! We will give an overview of the center\, personnel\, resources available\, and other information to help you navigate our services.  \nWho should attend? People in the greater CNY and Upstate NY area looking to start a business\, or seeking help in growing their existing business \n \nLocation: Zoom \n \n\n\nAfter registering\, you will receive an email from Eventbrite with a link to access the webinar. Please save this email and be sure to check your SPAM folder if you don’t see it in your email inbox.  \n \nReasonable accommodations for persons with disabilities will be made if requested at least two weeks in advance. Contact Carolyn Tucker at wisecenter@syr.edu to make arrangements.
URL:https://wisecenter.org/event/wise-orientation-31/
LOCATION:Online Event
ATTACH;FMTTYPE=image/png:https://wisecenter.org/wp-content/uploads/2024/02/15920_image.png
END:VEVENT
BEGIN:VEVENT
DTSTART;TZID=America/New_York:20240326T120000
DTEND;TZID=America/New_York:20240326T130000
DTSTAMP:20260425T154421
CREATED:20240216T174538Z
LAST-MODIFIED:20240216T174538Z
UID:15926-1711454400-1711458000@wisecenter.org
SUMMARY:Building Blocks for Starting Your Business
DESCRIPTION:Join us for an introduction to entrepreneurship and starting a business!\n\n\nJoin us for an introduction to entrepreneurship and starting a business! Learn the basic ideas on determining a need in the marketplace\, target marketing\, unique selling points\, and building your support team. \nLocation: Zoom \n \n\n\nAfter registering\, you will receive an email from Eventbrite with a link to access the webinar. Please save this email and be sure to check your SPAM folder if you don’t see it in your email inbox.  \n \nReasonable accommodations for persons with disabilities will be made if requested at least two weeks in advance. Contact Carolyn Tucker at wisecenter@syr.edu to make arrangements.
URL:https://wisecenter.org/event/building-blocks-for-starting-your-business-47/
LOCATION:Online Event
ATTACH;FMTTYPE=image/png:https://wisecenter.org/wp-content/uploads/2024/02/15926_image.png
END:VEVENT
END:VCALENDAR