BEGIN:VCALENDAR
VERSION:2.0
PRODID:-//WISE Women&#039;s Business Center - ECPv6.15.20//NONSGML v1.0//EN
CALSCALE:GREGORIAN
METHOD:PUBLISH
X-ORIGINAL-URL:https://wisecenter.org
X-WR-CALDESC:Events for WISE Women&#039;s Business Center
REFRESH-INTERVAL;VALUE=DURATION:PT1H
X-Robots-Tag:noindex
X-PUBLISHED-TTL:PT1H
BEGIN:VTIMEZONE
TZID:Africa/Abidjan
BEGIN:STANDARD
TZOFFSETFROM:+0000
TZOFFSETTO:+0000
TZNAME:GMT
DTSTART:20250101T000000
END:STANDARD
END:VTIMEZONE
BEGIN:VEVENT
DTSTART;TZID=Africa/Abidjan:20260507T110000
DTEND;TZID=Africa/Abidjan:20260507T123000
DTSTAMP:20260423T061914
CREATED:20251209T164525Z
LAST-MODIFIED:20251209T164525Z
UID:17173-1778151600-1778157000@wisecenter.org
SUMMARY:The 5 Must-Have Ingredients for an Online Store That Sells
DESCRIPTION:Launch Your Online Store: The 5 Must-Have Ingredients for a Shop That Sells with Maisha Walker from Message Medium\n\n\nThu\, May 7\, 2026\, 11:00 AM – 12:30 PM\n \nJoin us for an introduction to building an online store for small businesses with Maisha Walker from Message Medium. \nLocation: Zoom \n \nWhether you sell handmade goods\, vintage finds\, or wellness products\, this free session will show you how to create a store that’s clear\, credible\, and conversion-ready—no coding required.  \nIn just 90 minutes\, you’ll learn: \n\nThe 5 elements every high-converting store needs (most people miss #3)\nHow to structure your homepage to guide buyers to “Add to Cart”\nWhat to skip so you can launch faster and easier\nThe easiest way to get your store online—even if you’re not tech-savvy\n\nThis class is perfect if you… \n\nAlready have a products and just need the online store to start selling them\nAre stuck on how to build your store or what should go where\nWant a clean\, smart online shop—without getting overwhelmed by design or tech\nWant guidance from an experienced expert so you can avoid wasting time and money\n\n \n\n\nZoom Access Instructions\n \nYour Eventbrite confirmation email will include a link to the Zoom registration form. After you enter your name and email on that form\, Zoom will automatically send you another email with the link to join the session. \n \nReasonable accommodations for persons with disabilities will be made if requested at least two weeks in advance. Contact Carolyn Tucker at wisecenter@syr.edu to make arrangements. \n\n\n\nAbout Maisha Walker\n \nMaisha Walker is the Founder and President of Message Medium\, a digital marketing agency that helps new and reinvested brands harness the power of digital to create a dynamic\, visible\, and profitable presence online. She has been creating websites and digital marketing campaigns for more than 29 years. Maisha has worked on digital marketing campaigns with Mars Chocolate\, Columbia University\, Unilever\, WJ Detusch (the owner of Yellow Tail wines)\, NBA player Kyle Lowry\, Save the Children and more. Maisha is a featured online columnist with Inc. Magazine\, and a 1994 graduate of Princeton University.
URL:https://wisecenter.org/event/the-5-must-have-ingredients-for-an-online-store-that-sells/
LOCATION:Online Event
ATTACH;FMTTYPE=image/png:https://wisecenter.org/wp-content/uploads/2025/12/17173_image.png
END:VEVENT
BEGIN:VEVENT
DTSTART;TZID=Africa/Abidjan:20260520T140000
DTEND;TZID=Africa/Abidjan:20260520T153000
DTSTAMP:20260423T061914
CREATED:20260217T214841Z
LAST-MODIFIED:20260217T214841Z
UID:17254-1779285600-1779291000@wisecenter.org
SUMMARY:Building Blocks for Starting Your Business
DESCRIPTION:Join us for an introduction to entrepreneurship and starting a business!\n\n\nWhen: Wed\, May 20\, 2026\, 2 – 3 PM \nLocation: Zoom \n \nJoin us for an introduction to entrepreneurship and starting a business! Learn the basic ideas on determining a need in the marketplace\, target marketing\, unique selling points\, and building your support team. \n \n\n\nAfter registering\, you will receive an email from Eventbrite with a link to access the webinar. Please save this email and be sure to check your SPAM folder if you don’t see it in your email inbox.  \n \nReasonable accommodations for persons with disabilities will be made if requested at least two weeks in advance. Contact Carolyn Tucker at wisecenter@syr.edu to make arrangements.
URL:https://wisecenter.org/event/building-blocks-for-starting-your-business-76/
LOCATION:Online Event
ATTACH;FMTTYPE=image/png:https://wisecenter.org/wp-content/uploads/2025/06/16884_image.png
END:VEVENT
BEGIN:VEVENT
DTSTART;TZID=Africa/Abidjan:20260611T110000
DTEND;TZID=Africa/Abidjan:20260611T123000
DTSTAMP:20260423T061914
CREATED:20251209T212341Z
LAST-MODIFIED:20260306T164009Z
UID:17176-1781175600-1781181000@wisecenter.org
SUMMARY:Building a Service Business Web Site with Maisha Walker
DESCRIPTION:Join us for an introduction to building a website for your service business with Maisha Walker from Message Medium\n\n\nThu\, June 11\, 2026\, 11:00 AM – 12:30 PM\n  \nJoin us for an introduction to building a website for your service business with Maisha Walker from Message Medium. \nLocation: Zoom \n  \nWe’ve all witnessed tremendous growth in people shopping for products and services online. Do you have a website and is it ready? Your website represents your brand online and is the one place you have total control over. Is it clear and easy to navigate? Is the design professional and mobile-friendly? Can your potential customers understand exactly what it is that you do and how to take the next step? \n  \nJoin this session to learn about the importance of your website\, its role in converting customers\, how to design for easy maintenance\, and how to make sure it works hard to help you grow your business without breaking the bank. \n\n\nZoom Access Instructions\n  \nYour Eventbrite confirmation email will include a link to the Zoom registration form. After you enter your name and email on that form\, Zoom will automatically send you another email with the link to join the session. \n  \nReasonable accommodations for persons with disabilities will be made if requested at least two weeks in advance. Contact Carolyn Tucker at wisecenter@syr.edu to make arrangements. \n\n\n\nAbout Maisha Walker\n  \nMaisha Walker is the Founder and President of Message Medium\, a digital marketing agency that helps new and reinvested brands harness the power of digital to create a dynamic\, visible\, and profitable presence online. She has been creating websites and digital marketing campaigns for more than 29 years. Maisha has worked on digital marketing campaigns with Mars Chocolate\, Columbia University\, Unilever\, WJ Detusch (the owner of Yellow Tail wines)\, NBA player Kyle Lowry\, Save the Children and more. Maisha is a featured online columnist with Inc. Magazine\, and a 1994 graduate of Princeton University.
URL:https://wisecenter.org/event/building-a-service-business-web-site-with-maisha-walker/
LOCATION:Online Event
ATTACH;FMTTYPE=image/png:https://wisecenter.org/wp-content/uploads/2025/12/17176_image.png
END:VEVENT
BEGIN:VEVENT
DTSTART;TZID=Africa/Abidjan:20260617T100000
DTEND;TZID=Africa/Abidjan:20260617T113000
DTSTAMP:20260423T061914
CREATED:20260217T215244Z
LAST-MODIFIED:20260217T215244Z
UID:17256-1781690400-1781695800@wisecenter.org
SUMMARY:Building Blocks for Starting Your Business
DESCRIPTION:Join us for an introduction to entrepreneurship and starting a business!\n\n\nWhen: Wed\, Jun 17\, 2026\, 10 – 11:30 AM \nLocation: Zoom \n \nJoin us for an introduction to entrepreneurship and starting a business! Learn the basic ideas on determining a need in the marketplace\, target marketing\, unique selling points\, and building your support team. \n \n\n\nAfter registering\, you will receive an email from Eventbrite with a link to access the webinar. Please save this email and be sure to check your SPAM folder if you don’t see it in your email inbox.  \n \nReasonable accommodations for persons with disabilities will be made if requested at least two weeks in advance. Contact Carolyn Tucker at wisecenter@syr.edu to make arrangements.
URL:https://wisecenter.org/event/building-blocks-for-starting-your-business-77/
LOCATION:Online Event
ATTACH;FMTTYPE=image/png:https://wisecenter.org/wp-content/uploads/2025/06/16884_image.png
END:VEVENT
END:VCALENDAR