BEGIN:VCALENDAR
VERSION:2.0
PRODID:-//WISE Women&#039;s Business Center - ECPv6.15.20//NONSGML v1.0//EN
CALSCALE:GREGORIAN
METHOD:PUBLISH
X-WR-CALNAME:WISE Women&#039;s Business Center
X-ORIGINAL-URL:https://wisecenter.org
X-WR-CALDESC:Events for WISE Women&#039;s Business Center
REFRESH-INTERVAL;VALUE=DURATION:PT1H
X-Robots-Tag:noindex
X-PUBLISHED-TTL:PT1H
BEGIN:VTIMEZONE
TZID:America/Halifax
BEGIN:DAYLIGHT
TZOFFSETFROM:-0400
TZOFFSETTO:-0300
TZNAME:ADT
DTSTART:20250309T060000
END:DAYLIGHT
BEGIN:STANDARD
TZOFFSETFROM:-0300
TZOFFSETTO:-0400
TZNAME:AST
DTSTART:20251102T050000
END:STANDARD
BEGIN:DAYLIGHT
TZOFFSETFROM:-0400
TZOFFSETTO:-0300
TZNAME:ADT
DTSTART:20260308T060000
END:DAYLIGHT
BEGIN:STANDARD
TZOFFSETFROM:-0300
TZOFFSETTO:-0400
TZNAME:AST
DTSTART:20261101T050000
END:STANDARD
BEGIN:DAYLIGHT
TZOFFSETFROM:-0400
TZOFFSETTO:-0300
TZNAME:ADT
DTSTART:20270314T060000
END:DAYLIGHT
BEGIN:STANDARD
TZOFFSETFROM:-0300
TZOFFSETTO:-0400
TZNAME:AST
DTSTART:20271107T050000
END:STANDARD
END:VTIMEZONE
BEGIN:VEVENT
DTSTART;TZID=America/Halifax:20260408T173000
DTEND;TZID=America/Halifax:20260610T193000
DTSTAMP:20260422T143405
CREATED:20260305T171418Z
LAST-MODIFIED:20260320T194236Z
UID:17311-1775669400-1781119800@wisecenter.org
SUMMARY:Accelerate: Business Plan Intensive - CLASS IS FULL. APPLICATION IS CLOSED.
DESCRIPTION:Develop a comprehensive business plan to confidently move your business forward! \nOver 10 weeks of hands-on interactive sessions\, ABPI expert instructors will guide you through refining your business concept\, forecasting your future financials\, creating detailed plans for operations\, and developing your business pitch. \nSpring 2026: April 8 – June 10 \nClick here for more info and to apply!
URL:https://wisecenter.org/event/accelerate-business-plan-intensive-applications-now-open-2/
ATTACH;FMTTYPE=image/png:https://wisecenter.org/wp-content/uploads/2026/03/Email-Banner-sold-out.png
END:VEVENT
BEGIN:VEVENT
DTSTART;TZID=America/Halifax:20260422T120000
DTEND;TZID=America/Halifax:20260422T130000
DTSTAMP:20260422T143405
CREATED:20260403T190704Z
LAST-MODIFIED:20260403T190704Z
UID:17336-1776859200-1776862800@wisecenter.org
SUMMARY:WISE Wins: Arteika Hunter\, Owner Clean & Glo Cleaning Services LLC
DESCRIPTION:Arteika launched Clean & Glo in August 2022 after more than a decade in the cleaning industry. What started as a path to financial independence and control over her time has grown into a trusted Central New York business offering commercial janitorial services\, painting\, property maintenance\, and lead remediation. \nHer dedication to quality service and creating job opportunities in her community earned her the 2024 New York State EAC Entrepreneur of the Year award. \nIn this episode\, host Melody Johnson (Owner of Melody’s Coworking & Event Space in Auburn\, NY) will sit down with Arteika to talk about her wins\, her challenges\, and what it takes to build a business that makes a real impact. \nIn Arteika’s words: \n“Clean & Glo not only created an income for me\, but it gave me a way to provide jobs for my community. It takes determination and dedication to start a business\, and you have to keep moving towards your goal.” \n  \nRSVP or bookmark the event by clicking HERE!
URL:https://wisecenter.org/event/wise-wins-arteika-hunter-owner-clean-glo-cleaning-services-llc/
LOCATION:LinkedIn Live
ATTACH;FMTTYPE=image/png:https://wisecenter.org/wp-content/uploads/2026/04/WISE-Wins-Announcement-April.png
END:VEVENT
END:VCALENDAR